BEGIN:VCALENDAR
VERSION:2.0
PRODID:-//eventon.com NONSGML v1.0//EN
BEGIN:VEVENT
UID:69e73261c968b
DTSTAMP:20260421T031633
DTSTART:20251026T220000Z
DTEND:20251027T045000Z
LOCATION:Lafayette Music Room 2119 Madison Avenue
SUMMARY:Landslide - A Tribute to Fleetwood Mac
DESCRIPTION: Memphis' own Ultimate Fleetwood Mac Tribute. Playing hits from every era of the iconic band that is a woven part of our culture.
END:VEVENT
END:VCALENDAR