BEGIN:VCALENDAR
VERSION:2.0
PRODID:-//eventon.com NONSGML v1.0//EN
BEGIN:VEVENT
UID:69e4f6a100207
DTSTAMP:20260419T103705
DTSTART:20250823T023000Z
DTEND:20250823T045000Z
LOCATION:Lafayette Music Room 2119 Madison Avenue
SUMMARY:Thumpdaddy
DESCRIPTION: Thumpdaddy is far more than just a band. We are a collection of entertainers intent on shaking the masses' money makers. Playing the greatest dance music from the 60's through up to minute hits\,  no genre is excluded. *Tables are offered on a first-come first-served basis. So please come early[..]
END:VEVENT
END:VCALENDAR