BEGIN:VCALENDAR
VERSION:2.0
PRODID:-//eventon.com NONSGML v1.0//EN
BEGIN:VEVENT
UID:69e74ed941d6f
DTSTAMP:20260421T051801
DTSTART:20250802T000000Z
DTEND:20250802T045000Z
LOCATION:Lafayette Music Room 2119 Madison Avenue
SUMMARY:Almost Elton John & The RocketMen
DESCRIPTION: ...one of Memphis’ hottest live acts! Pianist/Vocalist Jerred Price & his band\,  The RocketMen\,  take the stage with a Yamaha grand piano to perform his tribute to the legend\,  the “Rocket Man” himself: Sir Elton John. Given 4 stars by the Memphis Flyer\,  this is the closet thing to Elton[..]
END:VEVENT
END:VCALENDAR