BEGIN:VCALENDAR
VERSION:2.0
PRODID:-//eventon.com NONSGML v1.0//EN
BEGIN:VEVENT
UID:69e4f488a8709
DTSTAMP:20260419T102808
DTSTART:20250330T220000Z
DTEND:20250331T045000Z
LOCATION:Lafayette Music Room 2119 Madison Avenue
SUMMARY:The Lost 45s
DESCRIPTION: The Lost 45s
END:VEVENT
END:VCALENDAR