BEGIN:VCALENDAR
VERSION:2.0
PRODID:-//eventon.com NONSGML v1.0//EN
BEGIN:VEVENT
UID:69e8d53ecce91
DTSTAMP:20260422T090342
DTSTART:20250207T000000Z
DTEND:20250207T045000Z
LOCATION:Lafayette Music Room 2119 Madison Avenue
SUMMARY:The Pinch
DESCRIPTION: The Pinch is a four-piece pop/rock band comprised of talent based out of Memphis and has been playing the scene since 2001. All of the band members have played our stage in the past with groups such as The Super 5\,  Red Letter Day and Circus.
END:VEVENT
END:VCALENDAR