BEGIN:VCALENDAR
VERSION:2.0
PRODID:-//eventon.com NONSGML v1.0//EN
BEGIN:VEVENT
UID:69e738658ddfc
DTSTAMP:20260421T034213
DTSTART:20250104T220000Z
DTEND:20250105T045000Z
LOCATION:
SUMMARY:Basketcase
DESCRIPTION: Basketcase is the premier power trio in the midsouth. Grounded in alternative and rock genres\,  but also lovers of hip hop and pop\,  Basketcase has one of the widest\,  most eclectic song list in Memphis. Having unmatched passion and intensity\,  Basketcase has the unique ability to provide a high octane\, [..]
END:VEVENT
END:VCALENDAR