BEGIN:VCALENDAR
VERSION:2.0
PRODID:-//eventon.com NONSGML v1.0//EN
BEGIN:VEVENT
UID:69e731c38fbd5
DTSTAMP:20260421T031355
DTSTART:20241223T210000Z
DTEND:20241224T045000Z
LOCATION:Lafayette Music Room 2119 Madison Avenue
SUMMARY:Monday Night Football Watch Parties
DESCRIPTION: join us at Lafayette's for the ultimate Monday Night Football Watch Party on the **BIGGEST projector screen in town**—a jaw-dropping 250 inches of game-day excitement! Whether you’re a die-hard fan or just in it for the wings\,  we’ve got the perfect vibe for you! Specials that Score Big! Beer &[..]
END:VEVENT
END:VCALENDAR