BEGIN:VCALENDAR
VERSION:2.0
PRODID:-//eventon.com NONSGML v1.0//EN
BEGIN:VEVENT
UID:69e4e6d8b78cc
DTSTAMP:20260419T092944
DTSTART:20241103T200000Z
DTEND:20241104T045000Z
LOCATION:
SUMMARY:Bob and Angela
DESCRIPTION: Bob and Angela
END:VEVENT
END:VCALENDAR