BEGIN:VCALENDAR
VERSION:2.0
PRODID:-//eventon.com NONSGML v1.0//EN
BEGIN:VEVENT
UID:69e4da6f0770a
DTSTAMP:20260419T083647
DTSTART:20241013T020000Z
DTEND:20241013T045000Z
LOCATION:Lafayette Music Room 2119 Madison Avenue
SUMMARY:The Super 5
DESCRIPTION: Hailing from Memphis\,  TN yet traveling anywhere people want to have a great time... we have been featured in festivals\,  sporting events\,  casinos\,  corporate functions\,  weddings\,  proms\,  clubs and colleges across the U.S.  Once a strictly 80's cover group\,  THE SUPER 5 is now a band dedicated to all-time party[..]
END:VEVENT
END:VCALENDAR