BEGIN:VCALENDAR
VERSION:2.0
PRODID:-//eventon.com NONSGML v1.0//EN
BEGIN:VEVENT
UID:69e4dcaf4315f
DTSTAMP:20260419T084623
DTSTART:20240914T180000Z
DTEND:20240915T045000Z
LOCATION:Lafayette Music Room 2119 Madison Avenue
SUMMARY:KennLynn & McCheyne Post
DESCRIPTION: With the multiple talents of KennLynn and McCheyne Post\,  this duo plays a little bit of everything with its main focus on country music. The two just began performing together a few months ago\,  but with the talent and experience they both bring to the stage\,  they are sure to[..]
END:VEVENT
END:VCALENDAR