BEGIN:VCALENDAR
VERSION:2.0
PRODID:-//eventon.com NONSGML v1.0//EN
BEGIN:VEVENT
UID:69e74d83eaefa
DTSTAMP:20260421T051219
DTSTART:20240621T230000Z
DTEND:20240622T045000Z
LOCATION:Lafayette Music Room 2119 Madison Avenue
SUMMARY:Landslide - A Tribute to the Music of Fleetwood Mac
DESCRIPTION: Landslide - A Tribute to the Music of Fleetwood Mac
END:VEVENT
END:VCALENDAR