BEGIN:VCALENDAR
VERSION:2.0
PRODID:-//eventon.com NONSGML v1.0//EN
BEGIN:VEVENT
UID:69e738ce1d90e
DTSTAMP:20260421T034358
DTSTART:20240716T230000Z
DTEND:20240717T045000Z
LOCATION:Lafayette Music Room 2119 Madison Avenue
SUMMARY:Skinny Powers
DESCRIPTION: Skinny Powers
END:VEVENT
END:VCALENDAR