BEGIN:VCALENDAR
VERSION:2.0
PRODID:-//eventon.com NONSGML v1.0//EN
BEGIN:VEVENT
UID:69e9e24e40498
DTSTAMP:20260423T041142
DTSTART:20240413T220000Z
DTEND:20240414T045000Z
LOCATION:Lafayette Music Room 2119 Madison Avenue
SUMMARY:Jay Jones Band
DESCRIPTION: Jay Jones Band
END:VEVENT
END:VCALENDAR