BEGIN:VCALENDAR
VERSION:2.0
PRODID:-//eventon.com NONSGML v1.0//EN
BEGIN:VEVENT
UID:69e7389e04737
DTSTAMP:20260421T034310
DTSTART:20231127T010000Z
DTEND:20231127T045000Z
LOCATION:Lafayette Music Room 2119 Madison Avenue
SUMMARY:Deep Roots
DESCRIPTION: Deep Roots is a Memphis made band with strong roots in blues\,  soul\,  and rock and roll. This six piece band lead by Chris Thompson is a culmination of vocals\,  electric guitar\,  bass\,  keys\,  drums\,  and horns. Their combination to talent gives an electrifying spark to classic American music. With[..]
END:VEVENT
END:VCALENDAR