BEGIN:VCALENDAR
VERSION:2.0
PRODID:-//eventon.com NONSGML v1.0//EN
BEGIN:VEVENT
UID:69e7a29b3d7af
DTSTAMP:20260421T111523
DTSTART:20231119T203000Z
DTEND:20231120T045000Z
LOCATION:Lafayette Music Room 2119 Madison Avenue
SUMMARY:Will Tucker Band
DESCRIPTION: Will Tucker Band
END:VEVENT
END:VCALENDAR