BEGIN:VCALENDAR
VERSION:2.0
PRODID:-//eventon.com NONSGML v1.0//EN
BEGIN:VEVENT
UID:69e73210a42df
DTSTAMP:20260421T031512
DTSTART:20230927T000000Z
DTEND:20230927T045000Z
LOCATION:Lafayette Music Room 2119 Madison Avenue
SUMMARY:Carlos Mencia
DESCRIPTION: BUY TICKETS
END:VEVENT
END:VCALENDAR